BEGIN:VCALENDAR
VERSION:2.0
PRODID:-//Stichting Veteranen Waddinxveen - ECPv6.15.20//NONSGML v1.0//EN
CALSCALE:GREGORIAN
METHOD:PUBLISH
X-ORIGINAL-URL:https://stichtingveteranenwaddinxveen.net
X-WR-CALDESC:Evenementen voor Stichting Veteranen Waddinxveen
REFRESH-INTERVAL;VALUE=DURATION:PT1H
X-Robots-Tag:noindex
X-PUBLISHED-TTL:PT1H
BEGIN:VTIMEZONE
TZID:UTC
BEGIN:STANDARD
TZOFFSETFROM:+0000
TZOFFSETTO:+0000
TZNAME:UTC
DTSTART:20250101T000000
END:STANDARD
END:VTIMEZONE
BEGIN:VEVENT
DTSTART;TZID=UTC:20260504T190000
DTEND;TZID=UTC:20260504T210000
DTSTAMP:20260420T083531
CREATED:20260401T164912Z
LAST-MODIFIED:20260401T164912Z
UID:542-1777921200-1777928400@stichtingveteranenwaddinxveen.net
SUMMARY:Dodenherdenking
DESCRIPTION:Na de herdenking een borrel bij de secretaris thuis
URL:https://stichtingveteranenwaddinxveen.net/event/dodenherdenking/
LOCATION:Monument Waddinxveen\, Stationsplein\, Waddinxveen
ORGANIZER;CN="Stichting Veteranen Waddinxveen":MAILTO:penningmeester@stichtingveteranenwaddinxveen.nl
END:VEVENT
END:VCALENDAR