BEGIN:VCALENDAR
VERSION:2.0
PRODID:-//Stichting Veteranen Waddinxveen - ECPv6.15.20//NONSGML v1.0//EN
CALSCALE:GREGORIAN
METHOD:PUBLISH
X-WR-CALNAME:Stichting Veteranen Waddinxveen
X-ORIGINAL-URL:https://stichtingveteranenwaddinxveen.net
X-WR-CALDESC:Evenementen voor Stichting Veteranen Waddinxveen
REFRESH-INTERVAL;VALUE=DURATION:PT1H
X-Robots-Tag:noindex
X-PUBLISHED-TTL:PT1H
BEGIN:VTIMEZONE
TZID:UTC
BEGIN:STANDARD
TZOFFSETFROM:+0000
TZOFFSETTO:+0000
TZNAME:UTC
DTSTART:20250101T000000
END:STANDARD
END:VTIMEZONE
BEGIN:VEVENT
DTSTART;TZID=UTC:20260530T130000
DTEND;TZID=UTC:20260530T220000
DTSTAMP:20260420T122231
CREATED:20260401T165036Z
LAST-MODIFIED:20260401T165036Z
UID:545-1780146000-1780178400@stichtingveteranenwaddinxveen.net
SUMMARY:De Waddinxveense Veteranendag
DESCRIPTION:Van 13:00u tot 16:00 een publiek deel\, daarna vanaf 17:00u voor genodigden bij 2peterS
URL:https://stichtingveteranenwaddinxveen.net/event/de-waddinxveense-veteranendag/
LOCATION:2peterS\, Sniepweg 13
ORGANIZER;CN="Stichting Veteranen Waddinxveen":MAILTO:penningmeester@stichtingveteranenwaddinxveen.nl
END:VEVENT
END:VCALENDAR